BEGIN:VCALENDAR
VERSION:2.0
PRODID:-//Health Education Collaborative - ECPv6.15.20//NONSGML v1.0//EN
CALSCALE:GREGORIAN
METHOD:PUBLISH
X-WR-CALNAME:Health Education Collaborative
X-ORIGINAL-URL:https://healthec.com.au
X-WR-CALDESC:Events for Health Education Collaborative
REFRESH-INTERVAL;VALUE=DURATION:PT1H
X-Robots-Tag:noindex
X-PUBLISHED-TTL:PT1H
BEGIN:VTIMEZONE
TZID:Australia/Melbourne
BEGIN:STANDARD
TZOFFSETFROM:+1100
TZOFFSETTO:+1000
TZNAME:AEST
DTSTART:20230401T160000
END:STANDARD
BEGIN:DAYLIGHT
TZOFFSETFROM:+1000
TZOFFSETTO:+1100
TZNAME:AEDT
DTSTART:20230930T160000
END:DAYLIGHT
BEGIN:STANDARD
TZOFFSETFROM:+1100
TZOFFSETTO:+1000
TZNAME:AEST
DTSTART:20240406T160000
END:STANDARD
BEGIN:DAYLIGHT
TZOFFSETFROM:+1000
TZOFFSETTO:+1100
TZNAME:AEDT
DTSTART:20241005T160000
END:DAYLIGHT
BEGIN:STANDARD
TZOFFSETFROM:+1100
TZOFFSETTO:+1000
TZNAME:AEST
DTSTART:20250405T160000
END:STANDARD
BEGIN:DAYLIGHT
TZOFFSETFROM:+1000
TZOFFSETTO:+1100
TZNAME:AEDT
DTSTART:20251004T160000
END:DAYLIGHT
BEGIN:STANDARD
TZOFFSETFROM:+1100
TZOFFSETTO:+1000
TZNAME:AEST
DTSTART:20260404T160000
END:STANDARD
BEGIN:DAYLIGHT
TZOFFSETFROM:+1000
TZOFFSETTO:+1100
TZNAME:AEDT
DTSTART:20261003T160000
END:DAYLIGHT
END:VTIMEZONE
BEGIN:VEVENT
DTSTART;TZID=Australia/Melbourne:20250521T084500
DTEND;TZID=Australia/Melbourne:20250521T170000
DTSTAMP:20260421T065459
CREATED:20250306T145715Z
LAST-MODIFIED:20250306T145715Z
UID:423733-1747817100-1747846800@healthec.com.au
SUMMARY:Fracture Management Course Wangaratta VIC 21 May 2025
DESCRIPTION:
URL:https://healthec.com.au/event/fracture-management-course-wangaratta-vic-21-may-2025/
LOCATION:Gateway Wangaratta\, 29-37 Ryley Street\, Wangaratta\, Victoria\, 3677\, Australia
ORGANIZER;CN="Bruce Greaves 0444 547036":MAILTO:bruce@healthec.com.au
END:VEVENT
BEGIN:VEVENT
DTSTART;TZID=Australia/Melbourne:20250510T084500
DTEND;TZID=Australia/Melbourne:20250510T170000
DTSTAMP:20260421T065459
CREATED:20250328T092757Z
LAST-MODIFIED:20250328T092757Z
UID:423988-1746866700-1746896400@healthec.com.au
SUMMARY:Fracture Management Course Melbourne VIC 10 May 2025
DESCRIPTION:
URL:https://healthec.com.au/event/fracture-management-course-melbourne-vic-10-may-2025/
LOCATION:Hampton Community Centre\, 14 Willis Street\, Hampton\, Victoria\, 3188\, Australia
ORGANIZER;CN="Bruce Greaves 0444 547036":MAILTO:bruce@healthec.com.au
END:VEVENT
BEGIN:VEVENT
DTSTART;TZID=Australia/Melbourne:20250506T084500
DTEND;TZID=Australia/Melbourne:20250506T170000
DTSTAMP:20260421T065459
CREATED:20241121T183947Z
LAST-MODIFIED:20250312T080006Z
UID:422490-1746521100-1746550800@healthec.com.au
SUMMARY:Suturing Course Gold Coast QLD Tuesday 6 May 2025
DESCRIPTION:
URL:https://healthec.com.au/event/suturing-course-gold-coast-qld-tuesday-1-april-2025/
LOCATION:Palmer Gold Coast\, Ron Penhaligon Way\, Robina\, Queensland\, 4226\, Australia
ORGANIZER;CN="Bruce Greaves 0444 547036":MAILTO:bruce@healthec.com.au
END:VEVENT
BEGIN:VEVENT
DTSTART;TZID=Australia/Melbourne:20250429T084500
DTEND;TZID=Australia/Melbourne:20250429T170000
DTSTAMP:20260421T065459
CREATED:20250312T085034Z
LAST-MODIFIED:20250312T085034Z
UID:423792-1745916300-1745946000@healthec.com.au
SUMMARY:Suturing Course Adelaide SA Tuesday\, 29 April 2025
DESCRIPTION:
URL:https://healthec.com.au/event/suturing-course-adelaide-sa-tuesday-29-april-2025/
LOCATION:Kooyonga Golf Club\, May Terrace\, Lockleys\, SA\, 5032\, Australia
ORGANIZER;CN="Bruce Greaves 0444 547036":MAILTO:bruce@healthec.com.au
END:VEVENT
BEGIN:VEVENT
DTSTART;TZID=Australia/Melbourne:20250331T083000
DTEND;TZID=Australia/Melbourne:20250331T163000
DTSTAMP:20260421T065459
CREATED:20250331T025312Z
LAST-MODIFIED:20250331T025312Z
UID:424015-1743409800-1743438600@healthec.com.au
SUMMARY:NHET-Sim S9: Debriefing in Simulation and S10: Developing scenarios Melbourne VIC 25 October 2025
DESCRIPTION:
URL:https://healthec.com.au/event/nhet-sim-s9-debriefing-in-simulation-and-s10-developing-scenarios-melbourne-vic-25-october-2025/
LOCATION:Alfred Simulation Centre\, Level 4 89 Commercial Rd\, Melbourne\, VIC\, 3004\, Australia
END:VEVENT
BEGIN:VEVENT
DTSTART;TZID=Australia/Melbourne:20250329T083000
DTEND;TZID=Australia/Melbourne:20250329T163000
DTSTAMP:20260421T065459
CREATED:20241211T035502Z
LAST-MODIFIED:20241211T043153Z
UID:422698-1743237000-1743265800@healthec.com.au
SUMMARY:NHET-Sim S9 & S10 Melbourne VIC Saturday\, 29 March 2025
DESCRIPTION:
URL:https://healthec.com.au/event/nhet-sim-s9-s10-melbourne-vic-saturday-29-march-2025/
LOCATION:Alfred Simulation Centre\, Level 4 89 Commercial Rd\, Melbourne\, VIC\, 3004\, Australia
END:VEVENT
BEGIN:VEVENT
DTSTART;TZID=Australia/Melbourne:20250328T084500
DTEND;TZID=Australia/Melbourne:20250328T170000
DTSTAMP:20260421T065459
CREATED:20241116T043828Z
LAST-MODIFIED:20241116T045129Z
UID:422444-1743151500-1743181200@healthec.com.au
SUMMARY:Suturing Course Launceston TAS Friday 28 March 2025
DESCRIPTION:
URL:https://healthec.com.au/event/suturing-course-launceston-friday-28-march-2025/
LOCATION:Mantra Charles Hotel Launceston\, 287 Charles Street\, Launceston\, TAS\, 7250\, Australia
ORGANIZER;CN="Bruce Greaves 0444 547036":MAILTO:bruce@healthec.com.au
END:VEVENT
BEGIN:VEVENT
DTSTART;TZID=Australia/Melbourne:20250327T084500
DTEND;TZID=Australia/Melbourne:20250327T170000
DTSTAMP:20260421T065459
CREATED:20241116T043649Z
LAST-MODIFIED:20241124T004025Z
UID:422442-1743065100-1743094800@healthec.com.au
SUMMARY:Fracture Management Course Launceston TAS Thursday 27 March 2025
DESCRIPTION:Launceston Suturing 28 March 2025
URL:https://healthec.com.au/event/fracture-management-course-launceston-27-march-2025/
LOCATION:Mantra Charles Hotel Launceston\, 287 Charles Street\, Launceston\, TAS\, 7250\, Australia
ORGANIZER;CN="Bruce Greaves 0444 547036":MAILTO:bruce@healthec.com.au
END:VEVENT
BEGIN:VEVENT
DTSTART;TZID=Australia/Melbourne:20250322T083000
DTEND;TZID=Australia/Melbourne:20250322T170000
DTSTAMP:20260421T065459
CREATED:20241211T034611Z
LAST-MODIFIED:20241211T043243Z
UID:422696-1742632200-1742662800@healthec.com.au
SUMMARY:NHET-Sim C2 Being a Simulation Educator Melbourne VIC Saturday\, 22 March 2025
DESCRIPTION:
URL:https://healthec.com.au/event/nhet-sim-c2-being-a-simulation-educator-melbourne-vic-saturday-22-march-2025/
LOCATION:Alfred Simulation Centre\, Level 4 89 Commercial Rd\, Melbourne\, VIC\, 3004\, Australia
END:VEVENT
BEGIN:VEVENT
DTSTART;TZID=Australia/Melbourne:20250315T084500
DTEND;TZID=Australia/Melbourne:20250315T170000
DTSTAMP:20260421T065459
CREATED:20241114T141609Z
LAST-MODIFIED:20250206T082327Z
UID:422415-1742028300-1742058000@healthec.com.au
SUMMARY:Suturing Course Frankston VIC Saturday 15 March 2025
DESCRIPTION:
URL:https://healthec.com.au/event/suturing-course-frankston-thursday-20-february-2025/
LOCATION:Frankston RSL\, 183 Cranbourne Road\, Frankston\, VIC\, 3199\, Australia
ORGANIZER;CN="Bruce Greaves 0444 547036":MAILTO:bruce@healthec.com.au
END:VEVENT
BEGIN:VEVENT
DTSTART;TZID=Australia/Melbourne:20250312T083000
DTEND;TZID=Australia/Melbourne:20250312T160000
DTSTAMP:20260421T065459
CREATED:20250312T085213Z
LAST-MODIFIED:20250312T085213Z
UID:423794-1741768200-1741795200@healthec.com.au
SUMMARY:Suturing Course Townsville QLD Saturday 7 June 2025
DESCRIPTION:
URL:https://healthec.com.au/event/suturing-course-townsville-qld-saturday-7-june-2025/
LOCATION:Townsville & Thuringowa RSL Club\, 139 Charters Towers Road\, Hermit Park\, QLD\, 4812\, Australia
ORGANIZER;CN="Bruce Greaves 0444 547036":MAILTO:bruce@healthec.com.au
END:VEVENT
BEGIN:VEVENT
DTSTART;TZID=Australia/Melbourne:20250214T084500
DTEND;TZID=Australia/Melbourne:20250214T170000
DTSTAMP:20260421T065459
CREATED:20241129T001129Z
LAST-MODIFIED:20241129T001129Z
UID:422574-1739522700-1739552400@healthec.com.au
SUMMARY:Suturing Course Adelaide SA Friday 14 February 2025
DESCRIPTION:
URL:https://healthec.com.au/event/suturing-course-adelaide-sa-friday-14-february-2025/
LOCATION:Kooyonga Golf Club\, May Terrace\, Lockleys\, SA\, 5032\, Australia
ORGANIZER;CN="Bruce Greaves 0444 547036":MAILTO:bruce@healthec.com.au
END:VEVENT
BEGIN:VEVENT
DTSTART;TZID=Australia/Melbourne:20250213T180000
DTEND;TZID=Australia/Melbourne:20250213T203000
DTSTAMP:20260421T065459
CREATED:20241201T215655Z
LAST-MODIFIED:20241201T220222Z
UID:422598-1739469600-1739478600@healthec.com.au
SUMMARY:IV Cannulation Adelaide SA Thursday 13 February 2025
DESCRIPTION:
URL:https://healthec.com.au/event/iv-cannulation-adelaide-sa-thursday-13-february-2025/
LOCATION:Kooyonga Golf Club\, May Terrace\, Lockleys\, SA\, 5032\, Australia
ORGANIZER;CN="Bruce Greaves 0444 547036":MAILTO:bruce@healthec.com.au
END:VEVENT
BEGIN:VEVENT
DTSTART;TZID=Australia/Melbourne:20250213T084500
DTEND;TZID=Australia/Melbourne:20250213T170000
DTSTAMP:20260421T065459
CREATED:20241129T001248Z
LAST-MODIFIED:20241129T001248Z
UID:422577-1739436300-1739466000@healthec.com.au
SUMMARY:Fracture Management Course Adelaide SA Thursday 13 February 2025
DESCRIPTION:
URL:https://healthec.com.au/event/fracture-management-course-adelaide-sa-thursday-13-february-2025/
LOCATION:Kooyonga Golf Club\, May Terrace\, Lockleys\, SA\, 5032\, Australia
ORGANIZER;CN="Bruce Greaves 0444 547036":MAILTO:bruce@healthec.com.au
END:VEVENT
BEGIN:VEVENT
DTSTART;TZID=Australia/Melbourne:20250213T084500
DTEND;TZID=Australia/Melbourne:20250213T170000
DTSTAMP:20260421T065459
CREATED:20241110T224340Z
LAST-MODIFIED:20241110T224340Z
UID:422354-1739436300-1739466000@healthec.com.au
SUMMARY:Fracture Managment Course North Lakes QLD Thursday\, 13 February 2025
DESCRIPTION:
URL:https://healthec.com.au/event/fracture-managment-course-north-lakes-qld-thursday-13-february-2025/
LOCATION:Best Western Plus North Lakes Hotel & Apartments\, 22 Lakefield Drive\, North Lakes\, QLD\, 4509\, Australia
ORGANIZER;CN="Bruce Greaves 0444 547036":MAILTO:bruce@healthec.com.au
END:VEVENT
BEGIN:VEVENT
DTSTART;TZID=Australia/Melbourne:20250205T084500
DTEND;TZID=Australia/Melbourne:20250205T170000
DTSTAMP:20260421T065459
CREATED:20241112T030347Z
LAST-MODIFIED:20241116T045509Z
UID:422365-1738745100-1738774800@healthec.com.au
SUMMARY:Suturing Course Bendigo VIC Wednesday 5 February 2025
DESCRIPTION:
URL:https://healthec.com.au/event/suturing-course-bendigo-vic-wednesday-5-february-2024/
LOCATION:Lakeside Hotel\, 286 Napier Street\, Bendigo\, Victoria\, 3550\, Australia
ORGANIZER;CN="Bruce Greaves 0444 547036":MAILTO:bruce@healthec.com.au
END:VEVENT
BEGIN:VEVENT
DTSTART;TZID=Australia/Melbourne:20241130T084500
DTEND;TZID=Australia/Melbourne:20241130T170000
DTSTAMP:20260421T065459
CREATED:20240818T005442Z
LAST-MODIFIED:20240818T005442Z
UID:421648-1732956300-1732986000@healthec.com.au
SUMMARY:Suturing Course Moorabbin Saturday\, 30 November 2024
DESCRIPTION:
URL:https://healthec.com.au/event/suturing-course-moorabbin-saturday-30-november-2024/
LOCATION:Hampton Community Centre\, 14 Willis Street\, Hampton\, Victoria\, 3188\, Australia
ORGANIZER;CN="Bruce Greaves 0444 547036":MAILTO:bruce@healthec.com.au
END:VEVENT
BEGIN:VEVENT
DTSTART;TZID=Australia/Melbourne:20241121T084500
DTEND;TZID=Australia/Melbourne:20241121T170000
DTSTAMP:20260421T065459
CREATED:20240823T055421Z
LAST-MODIFIED:20240823T055923Z
UID:421716-1732178700-1732208400@healthec.com.au
SUMMARY:Fracture Management Course Dee Why RSL Club Thursday\, 21 November 2024
DESCRIPTION:
URL:https://healthec.com.au/event/fracture-management-course/
LOCATION:Dee Why RSL\, 932 Pittwater Rd\, Dee Why\, NSW\, 2099\, Australia
ORGANIZER;CN="Bruce Greaves 0444 547036":MAILTO:bruce@healthec.com.au
END:VEVENT
BEGIN:VEVENT
DTSTART;TZID=Australia/Melbourne:20241116T084500
DTEND;TZID=Australia/Melbourne:20241116T170000
DTSTAMP:20260421T065459
CREATED:20240818T005312Z
LAST-MODIFIED:20240818T005312Z
UID:421646-1731746700-1731776400@healthec.com.au
SUMMARY:Fracture Management Moorabbin VIC Saturday\, 16 November 2024
DESCRIPTION:
URL:https://healthec.com.au/event/fracture-management-moorabbin-vic-saturday-16-november-2024/
LOCATION:Hampton Community Centre\, 14 Willis Street\, Hampton\, Victoria\, 3188\, Australia
ORGANIZER;CN="Bruce Greaves 0444 547036":MAILTO:bruce@healthec.com.au
END:VEVENT
BEGIN:VEVENT
DTSTART;TZID=Australia/Melbourne:20241115T084500
DTEND;TZID=Australia/Melbourne:20241115T170000
DTSTAMP:20260421T065459
CREATED:20241114T140839Z
LAST-MODIFIED:20241114T140839Z
UID:422412-1731660300-1731690000@healthec.com.au
SUMMARY:Suturing Course Melton 21 January 2025 Private Course
DESCRIPTION:
URL:https://healthec.com.au/event/suturing-course-melton-21-january-2025-private-course/
LOCATION:QLD
ORGANIZER;CN="Bruce Greaves 0444 547036":MAILTO:bruce@healthec.com.au
END:VEVENT
BEGIN:VEVENT
DTSTART;TZID=Australia/Melbourne:20241012T084500
DTEND;TZID=Australia/Melbourne:20241012T170000
DTSTAMP:20260421T065459
CREATED:20240821T014901Z
LAST-MODIFIED:20240821T014901Z
UID:421676-1728722700-1728752400@healthec.com.au
SUMMARY:Suturing Course Adelaide Saturday\, 12 October 2024
DESCRIPTION:
URL:https://healthec.com.au/event/suturing-course-adelaide-saturday-12-october-2024/
LOCATION:Upnext\, 313 Payneham Road\, Royston Park\, SA\, 5070\, Australia
ORGANIZER;CN="Bruce Greaves 0444 547036":MAILTO:bruce@healthec.com.au
END:VEVENT
BEGIN:VEVENT
DTSTART;TZID=Australia/Melbourne:20240921T084500
DTEND;TZID=Australia/Melbourne:20240921T170000
DTSTAMP:20260421T065459
CREATED:20240531T062436Z
LAST-MODIFIED:20240531T062436Z
UID:420682-1726908300-1726938000@healthec.com.au
SUMMARY:Suturing Course Merimbula NSW Saturday\, 21 September 2024
DESCRIPTION:
URL:https://healthec.com.au/event/suturing-course-merimbula-nsw-saturday-21-september-2024/
LOCATION:Merimbula RSL Club\, 52-54 Main Street\, Merimbula\, NSW\, 2548\, Australia
ORGANIZER;CN="Bruce Greaves 0444 547036":MAILTO:bruce@healthec.com.au
END:VEVENT
BEGIN:VEVENT
DTSTART;TZID=Australia/Melbourne:20240920T084500
DTEND;TZID=Australia/Melbourne:20240920T170000
DTSTAMP:20260421T065459
CREATED:20240531T050553Z
LAST-MODIFIED:20240531T061503Z
UID:420680-1726821900-1726851600@healthec.com.au
SUMMARY:Fracture Management Course Merimbula NSW Friday\, 20 September 2024
DESCRIPTION:
URL:https://healthec.com.au/event/fracture-management-mermbula-20-september-2024/
LOCATION:Merimbula RSL Club\, 52-54 Main Street\, Merimbula\, NSW\, 2548\, Australia
ORGANIZER;CN="Bruce Greaves 0444 547036":MAILTO:bruce@healthec.com.au
END:VEVENT
BEGIN:VEVENT
DTSTART;TZID=Australia/Melbourne:20240906T083000
DTEND;TZID=Australia/Melbourne:20240906T160000
DTSTAMP:20260421T065459
CREATED:20240529T045020Z
LAST-MODIFIED:20240531T061736Z
UID:420635-1725611400-1725638400@healthec.com.au
SUMMARY:Suturing Course Hobart TAS Friday\, 6 September 2024
DESCRIPTION:
URL:https://healthec.com.au/event/suturing-hobart-friday-6-september-2024/
LOCATION:Rydges Hobart\, Corner Argyle & Lewis Street\, Hobart\, Tasmania\, 7000\, Australia
ORGANIZER;CN="Bruce Greaves 0444 547036":MAILTO:bruce@healthec.com.au
END:VEVENT
BEGIN:VEVENT
DTSTART;TZID=Australia/Melbourne:20240905T084500
DTEND;TZID=Australia/Melbourne:20240905T170000
DTSTAMP:20260421T065459
CREATED:20240529T044830Z
LAST-MODIFIED:20240531T061810Z
UID:420633-1725525900-1725555600@healthec.com.au
SUMMARY:Fracture Management Course Hobart TAS Thursday\, 5 September 2024
DESCRIPTION:
URL:https://healthec.com.au/event/fracture-management-hobart-thursday-5-september-2024/
LOCATION:Rydges Hobart\, Corner Argyle & Lewis Street\, Hobart\, Tasmania\, 7000\, Australia
ORGANIZER;CN="Bruce Greaves 0444 547036":MAILTO:bruce@healthec.com.au
END:VEVENT
BEGIN:VEVENT
DTSTART;TZID=Australia/Melbourne:20240828T084500
DTEND;TZID=Australia/Melbourne:20240828T170000
DTSTAMP:20260421T065459
CREATED:20240601T052557Z
LAST-MODIFIED:20240807T095106Z
UID:420690-1724834700-1724864400@healthec.com.au
SUMMARY:Suturing Course Traralgon VIC Wednesday\, 28 August 2024
DESCRIPTION:
URL:https://healthec.com.au/event/suturing-course-traralgon-vic-wednesday-28-august-2024/
LOCATION:Traralgon Bowls Club\, Corner Gwalia Street & Liddiard Road\, Traralgon\, VIC\, 3844\, Australia
ORGANIZER;CN="Bruce Greaves 0444 547036":MAILTO:bruce@healthec.com.au
END:VEVENT
BEGIN:VEVENT
DTSTART;TZID=Australia/Melbourne:20240807T084500
DTEND;TZID=Australia/Melbourne:20240807T170000
DTSTAMP:20260421T065459
CREATED:20240531T045822Z
LAST-MODIFIED:20240531T061844Z
UID:420674-1723020300-1723050000@healthec.com.au
SUMMARY:Suturing Course Albury NSW Wednesday\, 7 August 2024
DESCRIPTION:
URL:https://healthec.com.au/event/suturing-course-albury-nsw-7-august-2024/
LOCATION:Commercial Club Albury\, 618 Dean Street\, Albury\, NSW\, 2640\, Australia
ORGANIZER;CN="Bruce Greaves 0444 547036":MAILTO:bruce@healthec.com.au
END:VEVENT
BEGIN:VEVENT
DTSTART;TZID=Australia/Melbourne:20240802T084500
DTEND;TZID=Australia/Melbourne:20240802T170000
DTSTAMP:20260421T065459
CREATED:20240531T045135Z
LAST-MODIFIED:20240603T213945Z
UID:420668-1722588300-1722618000@healthec.com.au
SUMMARY:Fracture Management Course Traralgon VIC Friday\, 2 August 2024
DESCRIPTION:
URL:https://healthec.com.au/event/fracture-management-traralgon-vic-26-july-2024/
LOCATION:Traralgon Bowls Club\, Corner Gwalia Street & Liddiard Road\, Traralgon\, VIC\, 3844\, Australia
ORGANIZER;CN="Bruce Greaves 0444 547036":MAILTO:bruce@healthec.com.au
END:VEVENT
BEGIN:VEVENT
DTSTART;TZID=Australia/Melbourne:20240706T084500
DTEND;TZID=Australia/Melbourne:20240706T170000
DTSTAMP:20260421T065459
CREATED:20240418T003226Z
LAST-MODIFIED:20240605T235849Z
UID:420183-1720255500-1720285200@healthec.com.au
SUMMARY:Suturing Course Ararat VIC Saturday\, 6 July 2024
DESCRIPTION:
URL:https://healthec.com.au/event/suturing-course-ararat-vic-6-july-2024/
LOCATION:Nursing Education Student Training Room\, Girdlestone Street\, Ararat\, VIC\, 3377\, Australia
ORGANIZER;CN="Bruce Greaves 0444 547036":MAILTO:bruce@healthec.com.au
END:VEVENT
BEGIN:VEVENT
DTSTART;TZID=Australia/Melbourne:20240625T084500
DTEND;TZID=Australia/Melbourne:20240625T170000
DTSTAMP:20260421T065459
CREATED:20231213T202426Z
LAST-MODIFIED:20240531T061425Z
UID:417779-1719305100-1719334800@healthec.com.au
SUMMARY:Suturing Course Adelaide SA Tuesday\, 25 June 2024
DESCRIPTION:
URL:https://healthec.com.au/event/suturing-course-adelaide-25-june-2024/
LOCATION:Upnext\, 313 Payneham Road\, Royston Park\, SA\, 5070\, Australia
ORGANIZER;CN="Bruce Greaves 0444 547036":MAILTO:bruce@healthec.com.au
END:VEVENT
END:VCALENDAR