BEGIN:VCALENDAR
VERSION:2.0
PRODID:-//Health Education Collaborative - ECPv6.15.20//NONSGML v1.0//EN
CALSCALE:GREGORIAN
METHOD:PUBLISH
X-WR-CALNAME:Health Education Collaborative
X-ORIGINAL-URL:https://healthec.com.au
X-WR-CALDESC:Events for Health Education Collaborative
REFRESH-INTERVAL;VALUE=DURATION:PT1H
X-Robots-Tag:noindex
X-PUBLISHED-TTL:PT1H
BEGIN:VTIMEZONE
TZID:Australia/Melbourne
BEGIN:STANDARD
TZOFFSETFROM:+1100
TZOFFSETTO:+1000
TZNAME:AEST
DTSTART:20250405T160000
END:STANDARD
BEGIN:DAYLIGHT
TZOFFSETFROM:+1000
TZOFFSETTO:+1100
TZNAME:AEDT
DTSTART:20251004T160000
END:DAYLIGHT
BEGIN:STANDARD
TZOFFSETFROM:+1100
TZOFFSETTO:+1000
TZNAME:AEST
DTSTART:20260404T160000
END:STANDARD
BEGIN:DAYLIGHT
TZOFFSETFROM:+1000
TZOFFSETTO:+1100
TZNAME:AEDT
DTSTART:20261003T160000
END:DAYLIGHT
BEGIN:STANDARD
TZOFFSETFROM:+1100
TZOFFSETTO:+1000
TZNAME:AEST
DTSTART:20270403T160000
END:STANDARD
BEGIN:DAYLIGHT
TZOFFSETFROM:+1000
TZOFFSETTO:+1100
TZNAME:AEDT
DTSTART:20271002T160000
END:DAYLIGHT
END:VTIMEZONE
BEGIN:VEVENT
DTSTART;TZID=Australia/Melbourne:20260428T083000
DTEND;TZID=Australia/Melbourne:20260428T163000
DTSTAMP:20260420T220539
CREATED:20251125T231324Z
LAST-MODIFIED:20251125T231324Z
UID:426040-1777365000-1777393800@healthec.com.au
SUMMARY:NHET-Sim C2: Being a Simulation Educator Adelaide SA Tuesday\, 28 April 2026
DESCRIPTION:
URL:https://healthec.com.au/event/nhet-sim-c2-being-a-simulation-educator-adelaide-sa-tuesday-28-april-2026/
LOCATION:Kooyonga Golf Club\, May Terrace\, Lockleys\, SA\, 5032\, Australia
END:VEVENT
BEGIN:VEVENT
DTSTART;TZID=Australia/Melbourne:20260429T180000
DTEND;TZID=Australia/Melbourne:20260429T203000
DTSTAMP:20260420T220539
CREATED:20260311T043034Z
LAST-MODIFIED:20260311T043034Z
UID:426540-1777485600-1777494600@healthec.com.au
SUMMARY:IV Cannulation Adelaide SA Wednesday\, 29 April 2026
DESCRIPTION:
URL:https://healthec.com.au/event/iv-cannulation-adelaide-sa-wednesday-29-april-2026/
LOCATION:Majestic M Suites\, 202 Tynte Street\, North Adelaide\, SA\, 5006\, Australia
END:VEVENT
BEGIN:VEVENT
DTSTART;TZID=Australia/Melbourne:20260520T084500
DTEND;TZID=Australia/Melbourne:20260520T163000
DTSTAMP:20260420T220539
CREATED:20260323T234857Z
LAST-MODIFIED:20260323T234857Z
UID:426596-1779266700-1779294600@healthec.com.au
SUMMARY:Fracture Management Course Brisbane QLD Wednesday\, 20 May 2026
DESCRIPTION:
URL:https://healthec.com.au/event/fracture-management-course-brisbane-qld-wednesday-20-may-2026/
LOCATION:Best Western Plus North Lakes Hotel & Apartments\, 22 Lakefield Drive\, North Lakes\, QLD\, 4509\, Australia
ORGANIZER;CN="Bruce Greaves 0444 547036":MAILTO:bruce@healthec.com.au
END:VEVENT
BEGIN:VEVENT
DTSTART;TZID=Australia/Melbourne:20260606T084500
DTEND;TZID=Australia/Melbourne:20260606T163000
DTSTAMP:20260420T220539
CREATED:20260311T081452Z
LAST-MODIFIED:20260311T081452Z
UID:426543-1780735500-1780763400@healthec.com.au
SUMMARY:Suturing Course Darwin NT Saturday\, 6 June 2026
DESCRIPTION:
URL:https://healthec.com.au/event/suturing-course-darwin-nt-saturday-6-june-2026/
LOCATION:Oaks Darwin Elan Hotel\, 31 Woods Street\, Darwin\, NT\, 0800\, Australia
ORGANIZER;CN="Bruce Greaves 0444 547036":MAILTO:bruce@healthec.com.au
END:VEVENT
BEGIN:VEVENT
DTSTART;TZID=Australia/Melbourne:20260615T084500
DTEND;TZID=Australia/Melbourne:20260615T163000
DTSTAMP:20260420T220539
CREATED:20260319T084403Z
LAST-MODIFIED:20260319T084403Z
UID:426582-1781513100-1781541000@healthec.com.au
SUMMARY:Suturing Course Gold Coast QLD Monday\, 15 June 2026
DESCRIPTION:
URL:https://healthec.com.au/event/suturing-course-gold-coast-qld-monday-15-june-2026/
LOCATION:Palmer Colonial Golf Course\, 57 Paradise Springs Avenue\, Robina\, QLD\, 4226\, Australia
ORGANIZER;CN="Bruce Greaves 0444 547036":MAILTO:bruce@healthec.com.au
END:VEVENT
BEGIN:VEVENT
DTSTART;TZID=Australia/Melbourne:20260620T084500
DTEND;TZID=Australia/Melbourne:20260620T163000
DTSTAMP:20260420T220539
CREATED:20260304T033907Z
LAST-MODIFIED:20260304T035550Z
UID:426495-1781945100-1781973000@healthec.com.au
SUMMARY:Suturing Course Bairnsdale VIC Saturday\, 20 June 2026
DESCRIPTION:
URL:https://healthec.com.au/event/suturing-course-bairnsdale-vic-saturday-20-june-2026/
LOCATION:The Centre – Combined Health\, 5 Radford Place\, Bairnsdale\, Victoria\, 3875\, Australia
ORGANIZER;CN="Bruce Greaves 0444 547036":MAILTO:bruce@healthec.com.au
END:VEVENT
BEGIN:VEVENT
DTSTART;TZID=Australia/Melbourne:20260711T100000
DTEND;TZID=Australia/Melbourne:20260711T160000
DTSTAMP:20260420T220539
CREATED:20260319T082248Z
LAST-MODIFIED:20260331T011222Z
UID:426579-1783764000-1783785600@healthec.com.au
SUMMARY:Suturing Course Albury NSW Wednesday\, 24 June 2026
DESCRIPTION:
URL:https://healthec.com.au/event/suturing-course-albury-nsw-wednesday-24-june-2026/
LOCATION:LibraryMusuem\, Cnr Kiewa & Swift Streets\, Albury\, NSW\, 2640\, Australia
ORGANIZER;CN="Bruce Greaves 0444 547036":MAILTO:bruce@healthec.com.au
END:VEVENT
BEGIN:VEVENT
DTSTART;TZID=Australia/Melbourne:20260808T084500
DTEND;TZID=Australia/Melbourne:20260808T163000
DTSTAMP:20260420T220539
CREATED:20260415T004004Z
LAST-MODIFIED:20260415T004004Z
UID:426705-1786178700-1786206600@healthec.com.au
SUMMARY:Fracture Management Course Melbourne VIC Saturday\, 8 August 2026
DESCRIPTION:
URL:https://healthec.com.au/event/fracture-management-course-melbourne-vic-saturday-8-august-2026/
LOCATION:Hampton Community Centre\, 14 Willis Street\, Hampton\, Victoria\, 3188\, Australia
ORGANIZER;CN="Bruce Greaves 0444 547036":MAILTO:bruce@healthec.com.au
END:VEVENT
BEGIN:VEVENT
DTSTART;TZID=Australia/Melbourne:20260820T084500
DTEND;TZID=Australia/Melbourne:20260820T163000
DTSTAMP:20260420T220539
CREATED:20260414T224917Z
LAST-MODIFIED:20260414T224917Z
UID:426693-1787215500-1787243400@healthec.com.au
SUMMARY:Fracture Management Course Wangaratta VIC 20 August 2026
DESCRIPTION:
URL:https://healthec.com.au/event/fracture-management-course-wangaratta-vic-20-august-2026/
LOCATION:Gateway Wangaratta\, 29-37 Ryley Street\, Wangaratta\, Victoria\, 3677\, Australia
ORGANIZER;CN="Bruce Greaves 0444 547036":MAILTO:bruce@healthec.com.au
END:VEVENT
BEGIN:VEVENT
DTSTART;TZID=Australia/Melbourne:20260821T084500
DTEND;TZID=Australia/Melbourne:20260821T163000
DTSTAMP:20260420T220539
CREATED:20260414T225128Z
LAST-MODIFIED:20260414T225128Z
UID:426695-1787301900-1787329800@healthec.com.au
SUMMARY:Suturing Course Wangaratta VIC Friday\, 21 August 2026
DESCRIPTION:
URL:https://healthec.com.au/event/suturing-course-wangaratta-vic-friday-21-august-2026/
LOCATION:Gateway Wangaratta\, 29-37 Ryley Street\, Wangaratta\, Victoria\, 3677\, Australia
ORGANIZER;CN="Bruce Greaves 0444 547036":MAILTO:bruce@healthec.com.au
END:VEVENT
BEGIN:VEVENT
DTSTART;TZID=Australia/Melbourne:20260824T084500
DTEND;TZID=Australia/Melbourne:20260824T163000
DTSTAMP:20260420T220539
CREATED:20260415T004221Z
LAST-MODIFIED:20260415T004221Z
UID:426707-1787561100-1787589000@healthec.com.au
SUMMARY:Fracture Management Course Canberra ACT Monday\, 24 August 2026
DESCRIPTION:
URL:https://healthec.com.au/event/fracture-management-course-canberra-act-monday-24-august-2026/
LOCATION:Pilgrim House Conference Centre\, 69 Northbourne Avenue\, Canberra\, ACT\, 2601\, Australia
ORGANIZER;CN="Bruce Greaves 0444 547036":MAILTO:bruce@healthec.com.au
END:VEVENT
BEGIN:VEVENT
DTSTART;TZID=Australia/Melbourne:20260825T084500
DTEND;TZID=Australia/Melbourne:20260825T163000
DTSTAMP:20260420T220539
CREATED:20260415T004352Z
LAST-MODIFIED:20260415T004352Z
UID:426709-1787647500-1787675400@healthec.com.au
SUMMARY:Suturing Course Canberra ACT Tuesday\, 25 August 2026
DESCRIPTION:
URL:https://healthec.com.au/event/suturing-course-canberra-act-tuesday-25-august-2026/
LOCATION:Pilgrim House Conference Centre\, 69 Northbourne Avenue\, Canberra\, ACT\, 2601\, Australia
ORGANIZER;CN="Bruce Greaves 0444 547036":MAILTO:bruce@healthec.com.au
END:VEVENT
BEGIN:VEVENT
DTSTART;TZID=Australia/Melbourne:20260909T084500
DTEND;TZID=Australia/Melbourne:20260909T163000
DTSTAMP:20260420T220539
CREATED:20260415T003316Z
LAST-MODIFIED:20260415T003316Z
UID:426697-1788943500-1788971400@healthec.com.au
SUMMARY:Fracture Management Course Moama NSW Thursday\, 9 September 2026
DESCRIPTION:
URL:https://healthec.com.au/event/fracture-management-course-moama-nsw-thursday-9-september-2026/
LOCATION:Tatalia Function Centre and Rich River Golf Club\, 24 Lane\, Moama\, New South Wales\, 2731\, Australia
ORGANIZER;CN="Bruce Greaves 0444 547036":MAILTO:bruce@healthec.com.au
END:VEVENT
BEGIN:VEVENT
DTSTART;TZID=Australia/Melbourne:20260910T084500
DTEND;TZID=Australia/Melbourne:20260910T163000
DTSTAMP:20260420T220539
CREATED:20260415T003532Z
LAST-MODIFIED:20260415T003532Z
UID:426699-1789029900-1789057800@healthec.com.au
SUMMARY:Suturing Course Moama NSW Thursday\, 10 September 2026
DESCRIPTION:
URL:https://healthec.com.au/event/suturing-course-moama-nsw-thursday-10-september-2026/
LOCATION:Tatalia Function Centre and Rich River Golf Club\, 24 Lane\, Moama\, New South Wales\, 2731\, Australia
ORGANIZER;CN="Bruce Greaves 0444 547036":MAILTO:bruce@healthec.com.au
END:VEVENT
BEGIN:VEVENT
DTSTART;TZID=Australia/Melbourne:20260917T084500
DTEND;TZID=Australia/Melbourne:20260917T163000
DTSTAMP:20260420T220539
CREATED:20260415T003710Z
LAST-MODIFIED:20260415T003710Z
UID:426701-1789634700-1789662600@healthec.com.au
SUMMARY:Fracture Management Course Hobart TAS Thursday\, 17 September 2026
DESCRIPTION:
URL:https://healthec.com.au/event/fracture-management-course-hobart-tas-thursday-17-september-2026/
LOCATION:Rydges Hobart\, Corner Argyle & Lewis Street\, Hobart\, Tasmania\, 7000\, Australia
ORGANIZER;CN="Bruce Greaves 0444 547036":MAILTO:bruce@healthec.com.au
END:VEVENT
BEGIN:VEVENT
DTSTART;TZID=Australia/Melbourne:20260918T084500
DTEND;TZID=Australia/Melbourne:20260918T163000
DTSTAMP:20260420T220539
CREATED:20260415T003825Z
LAST-MODIFIED:20260415T003825Z
UID:426703-1789721100-1789749000@healthec.com.au
SUMMARY:Suturing Course Hobart TAS Friday\, 18 September 2026
DESCRIPTION:
URL:https://healthec.com.au/event/suturing-course-hobart-tas-friday-18-september-2026/
LOCATION:Rydges Hobart\, Corner Argyle & Lewis Street\, Hobart\, Tasmania\, 7000\, Australia
ORGANIZER;CN="Bruce Greaves 0444 547036":MAILTO:bruce@healthec.com.au
END:VEVENT
BEGIN:VEVENT
DTSTART;TZID=Australia/Melbourne:20261017T084500
DTEND;TZID=Australia/Melbourne:20261017T163000
DTSTAMP:20260420T220539
CREATED:20260415T004523Z
LAST-MODIFIED:20260415T004523Z
UID:426711-1792226700-1792254600@healthec.com.au
SUMMARY:Suturing Course Melbourne VIC Saturday\, 17 October 2026
DESCRIPTION:
URL:https://healthec.com.au/event/suturing-course-melbourne-vic-saturday-17-october-2026/
LOCATION:Hampton Community Centre\, 14 Willis Street\, Hampton\, Victoria\, 3188\, Australia
ORGANIZER;CN="Bruce Greaves 0444 547036":MAILTO:bruce@healthec.com.au
END:VEVENT
END:VCALENDAR