BEGIN:VCALENDAR
VERSION:2.0
PRODID:-//Health Education Collaborative - ECPv6.15.20//NONSGML v1.0//EN
CALSCALE:GREGORIAN
METHOD:PUBLISH
X-WR-CALNAME:Health Education Collaborative
X-ORIGINAL-URL:https://healthec.com.au
X-WR-CALDESC:Events for Health Education Collaborative
REFRESH-INTERVAL;VALUE=DURATION:PT1H
X-Robots-Tag:noindex
X-PUBLISHED-TTL:PT1H
BEGIN:VTIMEZONE
TZID:Australia/Melbourne
BEGIN:STANDARD
TZOFFSETFROM:+1100
TZOFFSETTO:+1000
TZNAME:AEST
DTSTART:20240406T160000
END:STANDARD
BEGIN:DAYLIGHT
TZOFFSETFROM:+1000
TZOFFSETTO:+1100
TZNAME:AEDT
DTSTART:20241005T160000
END:DAYLIGHT
BEGIN:STANDARD
TZOFFSETFROM:+1100
TZOFFSETTO:+1000
TZNAME:AEST
DTSTART:20250405T160000
END:STANDARD
BEGIN:DAYLIGHT
TZOFFSETFROM:+1000
TZOFFSETTO:+1100
TZNAME:AEDT
DTSTART:20251004T160000
END:DAYLIGHT
BEGIN:STANDARD
TZOFFSETFROM:+1100
TZOFFSETTO:+1000
TZNAME:AEST
DTSTART:20260404T160000
END:STANDARD
BEGIN:DAYLIGHT
TZOFFSETFROM:+1000
TZOFFSETTO:+1100
TZNAME:AEDT
DTSTART:20261003T160000
END:DAYLIGHT
BEGIN:STANDARD
TZOFFSETFROM:+1100
TZOFFSETTO:+1000
TZNAME:AEST
DTSTART:20270403T160000
END:STANDARD
BEGIN:DAYLIGHT
TZOFFSETFROM:+1000
TZOFFSETTO:+1100
TZNAME:AEDT
DTSTART:20271002T160000
END:DAYLIGHT
END:VTIMEZONE
BEGIN:VEVENT
DTSTART;TZID=Australia/Melbourne:20260428T083000
DTEND;TZID=Australia/Melbourne:20260428T163000
DTSTAMP:20260420T204750
CREATED:20251125T231324Z
LAST-MODIFIED:20251125T231324Z
UID:426040-1777365000-1777393800@healthec.com.au
SUMMARY:NHET-Sim C2: Being a Simulation Educator Adelaide SA Tuesday\, 28 April 2026
DESCRIPTION:
URL:https://healthec.com.au/event/nhet-sim-c2-being-a-simulation-educator-adelaide-sa-tuesday-28-april-2026/
LOCATION:Kooyonga Golf Club\, May Terrace\, Lockleys\, SA\, 5032\, Australia
END:VEVENT
BEGIN:VEVENT
DTSTART;TZID=Australia/Melbourne:20260328T084500
DTEND;TZID=Australia/Melbourne:20260328T163000
DTSTAMP:20260420T204750
CREATED:20251105T021428Z
LAST-MODIFIED:20251105T021428Z
UID:425949-1774687500-1774715400@healthec.com.au
SUMMARY:Suturing Course Melbourne VIC Saturday\, 28 March 2026
DESCRIPTION:
URL:https://healthec.com.au/event/suturing-course-melbourne-vic-saturday-28-march-2026/
LOCATION:Hampton Community Centre\, 14 Willis Street\, Hampton\, Victoria\, 3188\, Australia
ORGANIZER;CN="Bruce Greaves 0444 547036":MAILTO:bruce@healthec.com.au
END:VEVENT
BEGIN:VEVENT
DTSTART;TZID=Australia/Melbourne:20260312T180000
DTEND;TZID=Australia/Melbourne:20260312T203000
DTSTAMP:20260420T204750
CREATED:20260305T200747Z
LAST-MODIFIED:20260305T200747Z
UID:426518-1773338400-1773347400@healthec.com.au
SUMMARY:IV Cannulation Hampton Thursday\, 12 March 2026
DESCRIPTION:
URL:https://healthec.com.au/event/iv-cannulation-hampton-thursday-12-march-2026/
LOCATION:Hampton Community Centre\, 14 Willis Street\, Hampton\, Victoria\, 3188\, Australia
END:VEVENT
BEGIN:VEVENT
DTSTART;TZID=Australia/Melbourne:20260311T084500
DTEND;TZID=Australia/Melbourne:20260311T163000
DTSTAMP:20260420T204750
CREATED:20251114T031236Z
LAST-MODIFIED:20251204T011005Z
UID:425981-1773218700-1773246600@healthec.com.au
SUMMARY:Suturing Course Brisbane Wednesday\, 11 March 2026
DESCRIPTION:
URL:https://healthec.com.au/event/suturing-course-brisbane-tuesday-3-march-2026/
LOCATION:Best Western Plus North Lakes Hotel & Apartments\, 22 Lakefield Drive\, North Lakes\, QLD\, 4509\, Australia
ORGANIZER;CN="Bruce Greaves 0444 547036":MAILTO:bruce@healthec.com.au
END:VEVENT
BEGIN:VEVENT
DTSTART;TZID=Australia/Melbourne:20260216T084500
DTEND;TZID=Australia/Melbourne:20260216T163000
DTSTAMP:20260420T204750
CREATED:20251030T232114Z
LAST-MODIFIED:20260128T234721Z
UID:425917-1771231500-1771259400@healthec.com.au
SUMMARY:Suturing Course Bathurst NSW Monday\, 16 February 2026
DESCRIPTION:
URL:https://healthec.com.au/event/suturing-course-bathurst-nsw-monday-16-february-2026/
LOCATION:Charles Sturt University Bathurst\, Panorama Avenue\, Bathurst\, NSW\, 2795\, Australia
ORGANIZER;CN="Bruce Greaves 0444 547036":MAILTO:bruce@healthec.com.au
END:VEVENT
BEGIN:VEVENT
DTSTART;TZID=Australia/Melbourne:20260207T084500
DTEND;TZID=Australia/Melbourne:20260207T163000
DTSTAMP:20260420T204750
CREATED:20251031T021357Z
LAST-MODIFIED:20251031T021357Z
UID:425925-1770453900-1770481800@healthec.com.au
SUMMARY:Fracture Management Course Melbourne VIC Saturday\, 7 February 2026
DESCRIPTION:
URL:https://healthec.com.au/event/fracture-management-course-melbourne-vic-saturday-7-february-2026/
LOCATION:Hampton Community Centre\, 14 Willis Street\, Hampton\, Victoria\, 3188\, Australia
ORGANIZER;CN="Bruce Greaves 0444 547036":MAILTO:bruce@healthec.com.au
END:VEVENT
BEGIN:VEVENT
DTSTART;TZID=Australia/Melbourne:20251015T084500
DTEND;TZID=Australia/Melbourne:20251015T170000
DTSTAMP:20260420T204750
CREATED:20250812T012034Z
LAST-MODIFIED:20250923T214613Z
UID:425355-1760517900-1760547600@healthec.com.au
SUMMARY:Suturing Course Brisbane Wednesday\, 15 October 2025
DESCRIPTION:
URL:https://healthec.com.au/event/suturing-course-brisbane-wednesday-15-october-2025/
LOCATION:Best Western Plus North Lakes Hotel & Apartments\, 22 Lakefield Drive\, North Lakes\, QLD\, 4509\, Australia
ORGANIZER;CN="Bruce Greaves 0444 547036":MAILTO:bruce@healthec.com.au
END:VEVENT
BEGIN:VEVENT
DTSTART;TZID=Australia/Melbourne:20251014T084500
DTEND;TZID=Australia/Melbourne:20251014T170000
DTSTAMP:20260420T204750
CREATED:20250730T061211Z
LAST-MODIFIED:20250730T061506Z
UID:425235-1760431500-1760461200@healthec.com.au
SUMMARY:Fracture Management Course Brisbane Tuesday\, 14 October 2025
DESCRIPTION:
URL:https://healthec.com.au/event/fracture-management-course-brisbane-tuesday-14-october-2025/
LOCATION:Best Western Plus North Lakes Hotel & Apartments\, 22 Lakefield Drive\, North Lakes\, QLD\, 4509\, Australia
ORGANIZER;CN="Bruce Greaves 0444 547036":MAILTO:bruce@healthec.com.au
END:VEVENT
BEGIN:VEVENT
DTSTART;TZID=Australia/Melbourne:20251010T084500
DTEND;TZID=Australia/Melbourne:20251010T163000
DTSTAMP:20260420T204750
CREATED:20250813T045230Z
LAST-MODIFIED:20250813T045230Z
UID:425395-1760085900-1760113800@healthec.com.au
SUMMARY:Suturing Course Hamilton VIC Friday 10 October 2025
DESCRIPTION:
URL:https://healthec.com.au/event/suturing-course-hamilton-vic-friday-10-october-2025/
LOCATION:Hamilton Institute of Rural Learning\, 333 North Boundary Road\, Hamilton\, VIC\, 3300\, Australia
ORGANIZER;CN="Bruce Greaves 0444 547036":MAILTO:bruce@healthec.com.au
END:VEVENT
BEGIN:VEVENT
DTSTART;TZID=Australia/Melbourne:20250917T084500
DTEND;TZID=Australia/Melbourne:20250917T170000
DTSTAMP:20260420T204750
CREATED:20250609T024557Z
LAST-MODIFIED:20250913T102138Z
UID:424782-1758098700-1758128400@healthec.com.au
SUMMARY:Fracture Management Course Melbourne VIC Wednesday 17 September 2025
DESCRIPTION:
URL:https://healthec.com.au/event/fracture-management-course-melbourne-vic-wednesday-17-september-2025/
LOCATION:Best Western Plus Travel Inn Hotel\, Corner Grattan & Drummond Streets\, Carlton\, VIC\, 3053\, Australia
ORGANIZER;CN="Bruce Greaves 0444 547036":MAILTO:bruce@healthec.com.au
END:VEVENT
BEGIN:VEVENT
DTSTART;TZID=Australia/Melbourne:20250913T084500
DTEND;TZID=Australia/Melbourne:20250913T170000
DTSTAMP:20260420T204750
CREATED:20250609T024127Z
LAST-MODIFIED:20250609T024127Z
UID:424780-1757753100-1757782800@healthec.com.au
SUMMARY:Suturing Course Melbourne VIC 13 September 2025
DESCRIPTION:
URL:https://healthec.com.au/event/suturing-course-melbourne-vic-13-september-2025/
LOCATION:Hampton Community Centre\, 14 Willis Street\, Hampton\, Victoria\, 3188\, Australia
ORGANIZER;CN="Bruce Greaves 0444 547036":MAILTO:bruce@healthec.com.au
END:VEVENT
BEGIN:VEVENT
DTSTART;TZID=Australia/Melbourne:20250909T084500
DTEND;TZID=Australia/Melbourne:20250909T170000
DTSTAMP:20260420T204750
CREATED:20250528T052211Z
LAST-MODIFIED:20250528T052211Z
UID:424596-1757407500-1757437200@healthec.com.au
SUMMARY:Suturing Course Moama NSW 9 September 2025
DESCRIPTION:
URL:https://healthec.com.au/event/suturing-course-moama-nsw-9-september-2025/
LOCATION:Tatalia Function Centre and Rich River Golf Club\, 24 Lane\, Moama\, New South Wales\, 2731\, Australia
ORGANIZER;CN="Bruce Greaves 0444 547036":MAILTO:bruce@healthec.com.au
END:VEVENT
BEGIN:VEVENT
DTSTART;TZID=Australia/Melbourne:20250908T084500
DTEND;TZID=Australia/Melbourne:20250908T170000
DTSTAMP:20260420T204750
CREATED:20250528T052040Z
LAST-MODIFIED:20250528T052040Z
UID:424594-1757321100-1757350800@healthec.com.au
SUMMARY:Fracture Management Course Moama NSW 8 September 2025
DESCRIPTION:
URL:https://healthec.com.au/event/fracture-management-course-moama-nsw-8-september-2025/
LOCATION:Tatalia Function Centre and Rich River Golf Club\, 24 Lane\, Moama\, New South Wales\, 2731\, Australia
ORGANIZER;CN="Bruce Greaves 0444 547036":MAILTO:bruce@healthec.com.au
END:VEVENT
BEGIN:VEVENT
DTSTART;TZID=Australia/Melbourne:20250826T084500
DTEND;TZID=Australia/Melbourne:20250826T170000
DTSTAMP:20260420T204750
CREATED:20250528T051646Z
LAST-MODIFIED:20250528T051646Z
UID:424592-1756197900-1756227600@healthec.com.au
SUMMARY:Suturing Course Canberra ACT 26 August 2025
DESCRIPTION:
URL:https://healthec.com.au/event/suturing-course-canberra-act-26-august-2025/
LOCATION:Pilgrim House Conference Centre\, 69 Northbourne Avenue\, Canberra\, ACT\, 2601\, Australia
ORGANIZER;CN="Bruce Greaves 0444 547036":MAILTO:bruce@healthec.com.au
END:VEVENT
BEGIN:VEVENT
DTSTART;TZID=Australia/Melbourne:20250825T084500
DTEND;TZID=Australia/Melbourne:20250825T170000
DTSTAMP:20260420T204750
CREATED:20250528T051418Z
LAST-MODIFIED:20250528T051418Z
UID:424588-1756111500-1756141200@healthec.com.au
SUMMARY:Fracture Management Course Canberra ACT Monday 25 August 2025
DESCRIPTION:
URL:https://healthec.com.au/event/fracture-management-course-canberra-act-monday-25-august-2025/
LOCATION:Pilgrim House Conference Centre\, 69 Northbourne Avenue\, Canberra\, ACT\, 2601\, Australia
ORGANIZER;CN="Bruce Greaves 0444 547036":MAILTO:bruce@healthec.com.au
END:VEVENT
BEGIN:VEVENT
DTSTART;TZID=Australia/Melbourne:20250821T084500
DTEND;TZID=Australia/Melbourne:20250821T170000
DTSTAMP:20260420T204750
CREATED:20250501T101204Z
LAST-MODIFIED:20250501T101204Z
UID:424309-1755765900-1755795600@healthec.com.au
SUMMARY:Fracture Management Course Traralgon VIC Thursday 21 August 2025
DESCRIPTION:
URL:https://healthec.com.au/event/fracture-management-course-traralgon-vic-thursday-21-august-2025/
LOCATION:Traralgon Bowls Club\, Corner Gwalia Street & Liddiard Road\, Traralgon\, VIC\, 3844\, Australia
ORGANIZER;CN="Bruce Greaves 0444 547036":MAILTO:bruce@healthec.com.au
END:VEVENT
BEGIN:VEVENT
DTSTART;TZID=Australia/Melbourne:20250731T084500
DTEND;TZID=Australia/Melbourne:20250731T170000
DTSTAMP:20260420T204750
CREATED:20250501T101001Z
LAST-MODIFIED:20250501T101240Z
UID:424307-1753951500-1753981200@healthec.com.au
SUMMARY:Suturing Course Traralgon VIC Thursday 31 July 2025
DESCRIPTION:
URL:https://healthec.com.au/event/suturing-course-traralgon-vic-thursday-31-july-2025/
LOCATION:Traralgon Bowls Club\, Corner Gwalia Street & Liddiard Road\, Traralgon\, VIC\, 3844\, Australia
ORGANIZER;CN="Bruce Greaves 0444 547036":MAILTO:bruce@healthec.com.au
END:VEVENT
BEGIN:VEVENT
DTSTART;TZID=Australia/Melbourne:20250724T084500
DTEND;TZID=Australia/Melbourne:20250724T170000
DTSTAMP:20260420T204750
CREATED:20241128T235657Z
LAST-MODIFIED:20250304T042715Z
UID:422567-1753346700-1753376400@healthec.com.au
SUMMARY:Suturing Course Perth WA Thursday 24 July 2025
DESCRIPTION:
URL:https://healthec.com.au/event/suturing-course-perth-wa-wednesday-19-march-2025/
LOCATION:Mt Lawley Golf Club\, 1 Walter Road\, Inglewood\, Western Australia\, 6052\, Australia
ORGANIZER;CN="Bruce Greaves 0444 547036":MAILTO:bruce@healthec.com.au
END:VEVENT
BEGIN:VEVENT
DTSTART;TZID=Australia/Melbourne:20250723T084500
DTEND;TZID=Australia/Melbourne:20250723T170000
DTSTAMP:20260420T204750
CREATED:20241128T235521Z
LAST-MODIFIED:20250304T040616Z
UID:422565-1753260300-1753290000@healthec.com.au
SUMMARY:Fracture Management Course Perth WA Wednesday\, 23 July 2025
DESCRIPTION:
URL:https://healthec.com.au/event/fracture-management-course-perth-wa-tuesday-18-march-2025/
LOCATION:Mt Lawley Golf Club\, 1 Walter Road\, Inglewood\, Western Australia\, 6052\, Australia
ORGANIZER;CN="Bruce Greaves 0444 547036":MAILTO:bruce@healthec.com.au
END:VEVENT
BEGIN:VEVENT
DTSTART;TZID=Australia/Melbourne:20250705T084500
DTEND;TZID=Australia/Melbourne:20250705T170000
DTSTAMP:20260420T204750
CREATED:20250217T021445Z
LAST-MODIFIED:20250217T021445Z
UID:423492-1751705100-1751734800@healthec.com.au
SUMMARY:Suturing Course Darwin Saturday 5 July 2025
DESCRIPTION:
URL:https://healthec.com.au/event/suturing-course-darwin-saturday-5-july-2025/
LOCATION:Travelodge Resort Darwin\, 64 Cavenagh Street\, Darwin\, NT\, 0800\, Australia
ORGANIZER;CN="Bruce Greaves 0444 547036":MAILTO:bruce@healthec.com.au
END:VEVENT
BEGIN:VEVENT
DTSTART;TZID=Australia/Melbourne:20250704T084500
DTEND;TZID=Australia/Melbourne:20250704T170000
DTSTAMP:20260420T204750
CREATED:20250217T021113Z
LAST-MODIFIED:20250217T051336Z
UID:423488-1751618700-1751648400@healthec.com.au
SUMMARY:Fracture Managment Course Darwin Friday 4 July 2025
DESCRIPTION:
URL:https://healthec.com.au/event/fracture-managment-course-darwin-friday-4-july-2025/
LOCATION:Travelodge Resort Darwin\, 64 Cavenagh Street\, Darwin\, NT\, 0800\, Australia
ORGANIZER;CN="Bruce Greaves 0444 547036":MAILTO:bruce@healthec.com.au
END:VEVENT
BEGIN:VEVENT
DTSTART;TZID=Australia/Melbourne:20250621T083000
DTEND;TZID=Australia/Melbourne:20250621T163000
DTSTAMP:20260420T204750
CREATED:20250217T015603Z
LAST-MODIFIED:20250217T020437Z
UID:423480-1750494600-1750523400@healthec.com.au
SUMMARY:NHET-Sim S9: Debriefing in Simulation and S10: Developing scenarios Hobart Saturday 21 June 2025
DESCRIPTION:
URL:https://healthec.com.au/event/nhet-sim-s9-debriefing-in-simulation-and-s10-developing-scenarios-hobart-saturday-21-june-2025/
LOCATION:Rydges Hobart\, Corner Argyle & Lewis Street\, Hobart\, Tasmania\, 7000\, Australia
END:VEVENT
BEGIN:VEVENT
DTSTART;TZID=Australia/Melbourne:20250620T084500
DTEND;TZID=Australia/Melbourne:20250620T163000
DTSTAMP:20260420T204750
CREATED:20250217T015320Z
LAST-MODIFIED:20250217T020617Z
UID:423478-1750409100-1750437000@healthec.com.au
SUMMARY:NHET-Sim C2: Being a Simulation Educator Hobart Friday 20 June 2025
DESCRIPTION:
URL:https://healthec.com.au/event/nhet-sim-c2-being-a-simulation-educator-hobart-friday-20-june-2025/
LOCATION:Rydges Hobart\, Corner Argyle & Lewis Street\, Hobart\, Tasmania\, 7000\, Australia
END:VEVENT
BEGIN:VEVENT
DTSTART;TZID=Australia/Melbourne:20250614T083000
DTEND;TZID=Australia/Melbourne:20250614T170000
DTSTAMP:20260420T204750
CREATED:20241205T233727Z
LAST-MODIFIED:20250316T034119Z
UID:422633-1749889800-1749920400@healthec.com.au
SUMMARY:Recognition of the seriously ill child and ALS Melbourne VIC 14 June 2024
DESCRIPTION:
URL:https://healthec.com.au/event/recognition-of-the-seriously-ill-child-and-advanced-life-support/
LOCATION:Alfred Simulation Centre\, Level 4 89 Commercial Rd\, Melbourne\, VIC\, 3004\, Australia
END:VEVENT
BEGIN:VEVENT
DTSTART;TZID=Australia/Melbourne:20250522T084500
DTEND;TZID=Australia/Melbourne:20250522T170000
DTSTAMP:20260420T204750
CREATED:20241216T015110Z
LAST-MODIFIED:20241216T015110Z
UID:422749-1747903500-1747933200@healthec.com.au
SUMMARY:Suturing Course Wangaratta VIC Thursday\, 22 May 2025
DESCRIPTION:
URL:https://healthec.com.au/event/suturing-course-wangaratta-vic-thursday-22-may-2025/
LOCATION:Gateway Wangaratta\, 29-37 Ryley Street\, Wangaratta\, Victoria\, 3677\, Australia
ORGANIZER;CN="Bruce Greaves 0444 547036":MAILTO:bruce@healthec.com.au
END:VEVENT
BEGIN:VEVENT
DTSTART;TZID=Australia/Melbourne:20250521T084500
DTEND;TZID=Australia/Melbourne:20250521T170000
DTSTAMP:20260420T204750
CREATED:20250306T145715Z
LAST-MODIFIED:20250306T145715Z
UID:423733-1747817100-1747846800@healthec.com.au
SUMMARY:Fracture Management Course Wangaratta VIC 21 May 2025
DESCRIPTION:
URL:https://healthec.com.au/event/fracture-management-course-wangaratta-vic-21-may-2025/
LOCATION:Gateway Wangaratta\, 29-37 Ryley Street\, Wangaratta\, Victoria\, 3677\, Australia
ORGANIZER;CN="Bruce Greaves 0444 547036":MAILTO:bruce@healthec.com.au
END:VEVENT
BEGIN:VEVENT
DTSTART;TZID=Australia/Melbourne:20250510T084500
DTEND;TZID=Australia/Melbourne:20250510T170000
DTSTAMP:20260420T204750
CREATED:20250328T092757Z
LAST-MODIFIED:20250328T092757Z
UID:423988-1746866700-1746896400@healthec.com.au
SUMMARY:Fracture Management Course Melbourne VIC 10 May 2025
DESCRIPTION:
URL:https://healthec.com.au/event/fracture-management-course-melbourne-vic-10-may-2025/
LOCATION:Hampton Community Centre\, 14 Willis Street\, Hampton\, Victoria\, 3188\, Australia
ORGANIZER;CN="Bruce Greaves 0444 547036":MAILTO:bruce@healthec.com.au
END:VEVENT
BEGIN:VEVENT
DTSTART;TZID=Australia/Melbourne:20250506T084500
DTEND;TZID=Australia/Melbourne:20250506T170000
DTSTAMP:20260420T204750
CREATED:20241121T183947Z
LAST-MODIFIED:20250312T080006Z
UID:422490-1746521100-1746550800@healthec.com.au
SUMMARY:Suturing Course Gold Coast QLD Tuesday 6 May 2025
DESCRIPTION:
URL:https://healthec.com.au/event/suturing-course-gold-coast-qld-tuesday-1-april-2025/
LOCATION:Palmer Gold Coast\, Ron Penhaligon Way\, Robina\, Queensland\, 4226\, Australia
ORGANIZER;CN="Bruce Greaves 0444 547036":MAILTO:bruce@healthec.com.au
END:VEVENT
BEGIN:VEVENT
DTSTART;TZID=Australia/Melbourne:20250429T084500
DTEND;TZID=Australia/Melbourne:20250429T170000
DTSTAMP:20260420T204750
CREATED:20250312T085034Z
LAST-MODIFIED:20250312T085034Z
UID:423792-1745916300-1745946000@healthec.com.au
SUMMARY:Suturing Course Adelaide SA Tuesday\, 29 April 2025
DESCRIPTION:
URL:https://healthec.com.au/event/suturing-course-adelaide-sa-tuesday-29-april-2025/
LOCATION:Kooyonga Golf Club\, May Terrace\, Lockleys\, SA\, 5032\, Australia
ORGANIZER;CN="Bruce Greaves 0444 547036":MAILTO:bruce@healthec.com.au
END:VEVENT
BEGIN:VEVENT
DTSTART;TZID=Australia/Melbourne:20250331T083000
DTEND;TZID=Australia/Melbourne:20250331T163000
DTSTAMP:20260420T204750
CREATED:20250331T025312Z
LAST-MODIFIED:20250331T025312Z
UID:424015-1743409800-1743438600@healthec.com.au
SUMMARY:NHET-Sim S9: Debriefing in Simulation and S10: Developing scenarios Melbourne VIC 25 October 2025
DESCRIPTION:
URL:https://healthec.com.au/event/nhet-sim-s9-debriefing-in-simulation-and-s10-developing-scenarios-melbourne-vic-25-october-2025/
LOCATION:Alfred Simulation Centre\, Level 4 89 Commercial Rd\, Melbourne\, VIC\, 3004\, Australia
END:VEVENT
END:VCALENDAR